BEGIN:VCALENDAR
VERSION:2.0
PRODID:-//Pulse Events//WordPress Plugin//EN
CALSCALE:GREGORIAN
METHOD:PUBLISH
BEGIN:VEVENT
UID:270339@carmenleeschneider.com
DTSTART:20250903T170000Z
DTEND:20250903T174500Z
SUMMARY:Yoga Flow
DESCRIPTION:Yoga Flow Yoga Flow\, or Vinyasa\, is a style of yoga characterized by stringing postures together so that you move from one to another\, seamlessly\, using breath. These classes range from a dynamic\, fast-paced flow to a more deliberate\, alignment-focused practice\, depending on the instructor. Each instructor will bring their individual style and sequence to [&hellip\;]
LOCATION:Function Well Breakfast Creek Lifestyle Precinct\, Level 3/194 Breakfast Creek Rd\, Newstead QLD 4006
URL:https://carmenleeschneider.com/pulse-event/wednesday-yoga-flow/?instance_date=2025-09-03
END:VEVENT
END:VCALENDAR
