BEGIN:VCALENDAR
VERSION:2.0
PRODID:-//Pulse Events//WordPress Plugin//EN
CALSCALE:GREGORIAN
METHOD:PUBLISH
BEGIN:VEVENT
UID:270342@carmenleeschneider.com
DTSTART:20251022T180000Z
DTEND:20251022T190000Z
SUMMARY:Yin Yoga
DESCRIPTION:Yin Yoga Yin yoga focuses on slow\, passive stretching and poses held for an extended period of time. Most Yin yoga poses are done on the floor\, and practitioners often use props like bolsters\, blankets\, and blocks to support and enhance their practice.
LOCATION:Function Well Breakfast Creek Lifestyle Precinct\, Level 3/194 Breakfast Creek Rd\, Newstead QLD 4006
URL:https://carmenleeschneider.com/pulse-event/wednesday-yin/?instance_date=2025-10-22
END:VEVENT
END:VCALENDAR
