BEGIN:VCALENDAR
VERSION:2.0
PRODID:-//Pulse Events//WordPress Plugin//EN
CALSCALE:GREGORIAN
METHOD:PUBLISH
BEGIN:VEVENT
UID:270345@carmenleeschneider.com
DTSTART:20250903T190000Z
DTEND:20250903T200000Z
SUMMARY:Restorative Yoga &#038\; Sound Meditation
DESCRIPTION:Restorative Yoga &amp\; Sound Meditation A deeply rejuvenating experience with our Restorative Yoga + Sound Meditation session. Begin by settling into supported poses designed to melt away tension and release the weight of your daily stresses. As you relax\, surrender to the soothing sounds of crystal singing bowls\, chimes\, and Tibetan bowls\, gently guiding you [&hellip\;]
LOCATION:Function Well Breakfast Creek Lifestyle Precinct\, Level 3/194 Breakfast Creek Rd\, Newstead QLD 4006
URL:https://carmenleeschneider.com/pulse-event/wednesday-restorative-yoga-sound-meditation/
END:VEVENT
END:VCALENDAR
