BEGIN:VCALENDAR
VERSION:2.0
PRODID:-//Pulse Events//WordPress Plugin//EN
CALSCALE:GREGORIAN
METHOD:PUBLISH
BEGIN:VEVENT
UID:270334@carmenleeschneider.com
DTSTART:20250902T105000Z
DTEND:20250902T112000Z
SUMMARY:Sound Meditation
DESCRIPTION:Sound Meditation A transformative experience that blends the power of meditation with the soothing vibrations of sound healing. In this guided session\, you will be led through a deep meditation practice designed to calm the mind\, centre your thoughts\, and release stress. Let the sound frequencies guide you into a state of deep relaxation. By [&hellip\;]
LOCATION:Function Well Breakfast Creek Lifestyle Precinct\, Level 3/194 Breakfast Creek Rd\, Newstead QLD 4006
URL:https://carmenleeschneider.com/pulse-event/tuesday-sound-meditation/?instance_date=2025-09-02
END:VEVENT
END:VCALENDAR
