BEGIN:VCALENDAR
VERSION:2.0
PRODID:-//Pulse Events//WordPress Plugin//EN
CALSCALE:GREGORIAN
METHOD:PUBLISH
BEGIN:VEVENT
UID:270328@carmenleeschneider.com
DTSTART:20250902T064500Z
DTEND:20250902T074500Z
SUMMARY:Hot Power Vinyasa
DESCRIPTION:Hot Power Vinyasa Sweat it out in our Hot Power Vinyasa class. Performed in a heated room of 35 degrees celsius this class pushes you to synchronize your breath with strong\, dynamic postures and movement. The use of heat serves to intensify the practice of yoga as well as encourage an increase in blood flow\, [&hellip\;]
LOCATION:TotalFusion Newstead 18 Longland Street Newstead\, QLD 4006
URL:https://carmenleeschneider.com/pulse-event/tuesday-hot-power-vinyasa/?instance_date=2025-09-02
END:VEVENT
END:VCALENDAR
