BEGIN:VCALENDAR
VERSION:2.0
PRODID:-//Pulse Events//WordPress Plugin//EN
CALSCALE:GREGORIAN
METHOD:PUBLISH
BEGIN:VEVENT
UID:270242@carmenleeschneider.com
DTSTART:20260124T071500Z
DTEND:20260124T081500Z
SUMMARY:Total Flow
DESCRIPTION:Total Flow Synchronize your breath with movement in our TotalFlow yoga class. Designed to aid in all body awareness\, alignment and flexibility\, this class encourages you to challenge yourself as you flow between sequences and poses. Using a mixture of blocks and bands to help you get into position\, this non-heated class welcomes all fitness [&hellip\;]
LOCATION:TotalFusion Newstead 18 Longland Street Newstead\, QLD 4006
URL:https://carmenleeschneider.com/pulse-event/total-flow/?instance_date=2026-01-24
END:VEVENT
END:VCALENDAR
