BEGIN:VCALENDAR
VERSION:2.0
PRODID:-//Pulse Events//WordPress Plugin//EN
CALSCALE:GREGORIAN
METHOD:PUBLISH
BEGIN:VEVENT
UID:270302@carmenleeschneider.com
DTSTART:20250831T170000Z
DTEND:20250831T180000Z
SUMMARY:Yin Yoga
DESCRIPTION:Yin Yoga Yin Yoga is a slower-paced style of yoga that works to emphasize the muscular effort of your body through repetition. Using a combination of held asanas and meditation\, Yin invites you to become more aware of your body while working to strengthen and improve the connective tissue of your joins. Non-heated\, this class [&hellip\;]
LOCATION:TotalFusion Newstead 18 Longland Street Newstead\, QLD 4006
URL:https://carmenleeschneider.com/pulse-event/sunday-yin-yoga/
END:VEVENT
END:VCALENDAR
