BEGIN:VCALENDAR
VERSION:2.0
PRODID:-//Pulse Events//WordPress Plugin//EN
CALSCALE:GREGORIAN
METHOD:PUBLISH
BEGIN:VEVENT
UID:270297@carmenleeschneider.com
DTSTART:20250831T154500Z
DTEND:20250831T164500Z
SUMMARY:Hot Total Flow
DESCRIPTION:Hot Total Flow An exciting workout designed to help heighten the connection between the mind and body\, our Hot TotalFlow classes are practised in a room of 35 degrees celsius. This heat serves to deepen the intensity of poses as well as encourage an increase in blood flow and detoxification. This challenging\, yet rewarding class [&hellip\;]
LOCATION:TotalFusion Newstead 18 Longland Street Newstead\, QLD 4006
URL:https://carmenleeschneider.com/pulse-event/sunday-hot-total-flow/
END:VEVENT
END:VCALENDAR
