BEGIN:VCALENDAR
VERSION:2.0
PRODID:-//Pulse Events//WordPress Plugin//EN
CALSCALE:GREGORIAN
METHOD:PUBLISH
BEGIN:VEVENT
UID:270151@carmenleeschneider.com
DTSTART:20251025T133000Z
DTEND:20251025T163000Z
SUMMARY:Spring Refresh Mini Retreat
DESCRIPTION:Welcome to Spring Refresh &#8211\; Mini Retreat! Get ready to embrace the spring season and recharge with us at our mini retreat on Saturday\, October 25 2025\, at 1:30 PM! Join Carmen for a rejuvenating day of relaxation and self-care. Experience gentle yoga sessions\, breathwork\, sound healing\, guided and silent meditation\, along with journaling to [&hellip\;]
LOCATION:TotalFusion Newstead 18 Longland Street Newstead\, QLD 4006
URL:https://carmenleeschneider.com/pulse-event/spring-refresh-mini-retreat/
END:VEVENT
END:VCALENDAR
