BEGIN:VCALENDAR
VERSION:2.0
PRODID:-//Pulse Events//WordPress Plugin//EN
CALSCALE:GREGORIAN
METHOD:PUBLISH
BEGIN:VEVENT
UID:270228@carmenleeschneider.com
DTSTART:20260424T093000Z
DTEND:20260424T103000Z
SUMMARY:Raw Flow Vinyasa
DESCRIPTION:Raw Flow Vinyasa  Basic breath work and technique are at the heart of our Raw Flow Vinyasa Class. This all-levels class is carefully sequenced to guide you into a deeper understanding of the poses\, helping you experience both the physical and mental benefits of a consistent yoga practice. We break down key postures to build [&hellip\;]
LOCATION:Raw Power Yoga 97 Sandgate Rd Albion QLD 4010
URL:https://carmenleeschneider.com/pulse-event/raw-flow-vinyasa-2/?instance_date=2026-04-24
END:VEVENT
END:VCALENDAR
