BEGIN:VCALENDAR
VERSION:2.0
PRODID:-//Pulse Events//WordPress Plugin//EN
CALSCALE:GREGORIAN
METHOD:PUBLISH
BEGIN:VEVENT
UID:270267@carmenleeschneider.com
DTSTART:20260125T144500Z
DTEND:20260125T153000Z
SUMMARY:Power Vinyasa
DESCRIPTION:Power Vinyasa Sweat it out in our Power Vinyasa class. This class pushes you to synchronize your breath with strong\, dynamic postures and movement. Open your mind and enjoy the challenge! This class welcomes all fitness and yogi levels with modifications provided throughout.  | Studio: Yoga. Bring: mat\, towel and water.
LOCATION:TotalFusion Newstead 18 Longland Street Newstead\, QLD 4006
URL:https://carmenleeschneider.com/pulse-event/power-vinyasa/?instance_date=2026-01-25
END:VEVENT
END:VCALENDAR
