BEGIN:VCALENDAR
VERSION:2.0
PRODID:-//Pulse Events//WordPress Plugin//EN
CALSCALE:GREGORIAN
METHOD:PUBLISH
BEGIN:VEVENT
UID:270311@carmenleeschneider.com
DTSTART:20251208T093000Z
DTEND:20251208T103000Z
SUMMARY:VinYin Yoga
DESCRIPTION:VinYin Yoga Vin Yin is a yoga sequence that combines both Vinyasa and Yin Yoga. By combining both practices\, this two-part class encourages you to open your heart to positive energy with a warming Vin flow\, then focus on the deep connective poses of a Yin flow. Unheated\, this class serves to de-stress and nurture [&hellip\;]
LOCATION:TotalFusion Newstead 18 Longland Street Newstead\, QLD 4006
URL:https://carmenleeschneider.com/pulse-event/monday-vinyin-yoga/?instance_date=2025-12-08
END:VEVENT
END:VCALENDAR
