BEGIN:VCALENDAR
VERSION:2.0
PRODID:-//Pulse Events//WordPress Plugin//EN
CALSCALE:GREGORIAN
METHOD:PUBLISH
BEGIN:VEVENT
UID:270314@carmenleeschneider.com
DTSTART:20250901T104500Z
DTEND:20250901T113000Z
SUMMARY:Breathwork + Meditation
DESCRIPTION:Breathwork + Meditation Improve focus and free your mind with TotalFusion&#8217\;s progressive meditation and breathwork class. Are you ready to master the art of mindfulness\, become fully present and grounded within your own body\, and learn to manage stress with greater ease? Pranayama focuses on controlling the breath\, shifting energy\, and improving mindfulness for greater [&hellip\;]
LOCATION:TotalFusion Newstead 18 Longland Street Newstead\, QLD 4006
URL:https://carmenleeschneider.com/pulse-event/monday-breathwork-meditation/
END:VEVENT
END:VCALENDAR
