BEGIN:VCALENDAR
VERSION:2.0
PRODID:-//Pulse Events//WordPress Plugin//EN
CALSCALE:GREGORIAN
METHOD:PUBLISH
BEGIN:VEVENT
UID:270361@carmenleeschneider.com
DTSTART:20250905T114500Z
DTEND:20250905T003000Z
SUMMARY:Yoga Flow
DESCRIPTION:Yoga Flow It is a type of Yoga that focuses on the connection between breath\, movement\, and the mind. It is based on the principles of Hatha Yoga\, Vinyasa Yoga and Ashtanga Vinyasa. This style of Yoga is often referred to as &#8220\;flow&#8221\; because it moves from one pose to another in a continuous\, smooth [&hellip\;]
LOCATION:Tattersall's Club 215 Queen St\, Brisbane City QLD 4000
URL:https://carmenleeschneider.com/pulse-event/friday-yoga-flow/
END:VEVENT
END:VCALENDAR
