BEGIN:VCALENDAR
VERSION:2.0
PRODID:-//Pulse Events//WordPress Plugin//EN
CALSCALE:GREGORIAN
METHOD:PUBLISH
BEGIN:VEVENT
UID:270501@carmenleeschneider.com
DTSTART:20260424T123000Z
DTEND:20260424T131500Z
SUMMARY:Yin Yoga
DESCRIPTION:Yin Yoga Yin Yoga is slow-paced style of yoga (as exercise)\, incorporating principles of traditional Chinese medicine\, with asanas (postures) that are held for longer periods of time than in other yoga styles. &nbsp\;
LOCATION:Tattersall's Club 215 Queen St\, Brisbane City QLD 4000
URL:https://carmenleeschneider.com/pulse-event/friday-yin-yoga/?instance_date=2026-04-24
END:VEVENT
END:VCALENDAR
