BEGIN:VCALENDAR
VERSION:2.0
PRODID:-//Pulse Events//WordPress Plugin//EN
CALSCALE:GREGORIAN
METHOD:PUBLISH
BEGIN:VEVENT
UID:270262@carmenleeschneider.com
DTSTART:20250823T100000Z
DTEND:20250823T113000Z
SUMMARY:Ashtanga Yoga
DESCRIPTION:Ashtanga Yoga Otherwise known as Yoga Chitiksa &#8211\; yoga therapy Ashtanga Yoga is a dynamic\, physically demanding practice that synchronises one breath and one movement to produce an internal heat designed to purify the body and eliminate old mental thought patterns. It is a traditional foundational practice and is great for building core strength and [&hellip\;]
LOCATION:TotalFusion Newstead 18 Longland Street Newstead\, QLD 4006
URL:https://carmenleeschneider.com/pulse-event/ashtanga-yoga/
END:VEVENT
END:VCALENDAR
